BEGIN:VCALENDAR
VERSION:2.0
PRODID:Events Booking
BEGIN:VEVENT
UID:69e850675bc88
SUMMARY:Oberliga Runde 4 (!! im Familienbildungswerk\, Weinheimer Str. 44 !
 !)
DESCRIPTION:
DTSTART:20191208T100000Z
DTSTAMP:20260422T043655Z
ORGANIZER;CN=Schachclub Viernheim 1934 e.V.:MAILTO:scv_info@schachclub-vier
 nheim.de
END:VEVENT
END:VCALENDAR