BEGIN:VCALENDAR
VERSION:2.0
PRODID:Events Booking
BEGIN:VEVENT
UID:69e72e16eb3a6
SUMMARY:Badische Blitz-Mannschaftsmeisterschaft (Ettlingen)
DESCRIPTION:
DTSTART:20260307T230000Z
DTSTAMP:20231102T075021Z
ORGANIZER;CN=Schachclub Viernheim 1934 e.V.:MAILTO:scv_info@schachclub-vier
 nheim.de
END:VEVENT
END:VCALENDAR