BEGIN:VCALENDAR
VERSION:2.0
PRODID:Events Booking
BEGIN:VEVENT
UID:69e72dc5a6b97
SUMMARY:Badische Blitz-Einzelmeisterschaft (Ettlingen)
DESCRIPTION:
DTSTART:20260306T230000Z
DTSTAMP:20231102T075021Z
ORGANIZER;CN=Schachclub Viernheim 1934 e.V.:MAILTO:scv_info@schachclub-vier
 nheim.de
END:VEVENT
END:VCALENDAR